BEGIN:VCALENDAR
VERSION:2.0
PRODID:-//The Little Warriors Project - ECPv6.15.20//NONSGML v1.0//EN
CALSCALE:GREGORIAN
METHOD:PUBLISH
X-WR-CALNAME:The Little Warriors Project
X-ORIGINAL-URL:https://thelittlewarriorsproject.com
X-WR-CALDESC:Events for The Little Warriors Project
REFRESH-INTERVAL;VALUE=DURATION:PT1H
X-Robots-Tag:noindex
X-PUBLISHED-TTL:PT1H
BEGIN:VTIMEZONE
TZID:America/Chicago
BEGIN:DAYLIGHT
TZOFFSETFROM:-0600
TZOFFSETTO:-0500
TZNAME:CDT
DTSTART:20240310T080000
END:DAYLIGHT
BEGIN:STANDARD
TZOFFSETFROM:-0500
TZOFFSETTO:-0600
TZNAME:CST
DTSTART:20241103T070000
END:STANDARD
BEGIN:DAYLIGHT
TZOFFSETFROM:-0600
TZOFFSETTO:-0500
TZNAME:CDT
DTSTART:20250309T080000
END:DAYLIGHT
BEGIN:STANDARD
TZOFFSETFROM:-0500
TZOFFSETTO:-0600
TZNAME:CST
DTSTART:20251102T070000
END:STANDARD
BEGIN:DAYLIGHT
TZOFFSETFROM:-0600
TZOFFSETTO:-0500
TZNAME:CDT
DTSTART:20260308T080000
END:DAYLIGHT
BEGIN:STANDARD
TZOFFSETFROM:-0500
TZOFFSETTO:-0600
TZNAME:CST
DTSTART:20261101T070000
END:STANDARD
END:VTIMEZONE
BEGIN:VTIMEZONE
TZID:UTC
BEGIN:STANDARD
TZOFFSETFROM:+0000
TZOFFSETTO:+0000
TZNAME:UTC
DTSTART:20230101T000000
END:STANDARD
END:VTIMEZONE
BEGIN:VEVENT
DTSTART;VALUE=DATE:20250930
DTEND;VALUE=DATE:20251001
DTSTAMP:20260423T120209
CREATED:20250923T164909Z
LAST-MODIFIED:20250923T164909Z
UID:4278-1759190400-1759276799@thelittlewarriorsproject.com
SUMMARY:PAINT THE WORLD GREEN! — NICU AWARENESS DAY!!
DESCRIPTION:
URL:https://thelittlewarriorsproject.com/events/paint-the-world-green-nicu-awareness-day/
CATEGORIES:All Day Event,All Events
ORGANIZER;CN="Francennett Herrera":MAILTO:thelittlewarriorsproject@gmail.com
END:VEVENT
BEGIN:VEVENT
DTSTART;TZID=America/Chicago:20250917T183000
DTEND;TZID=America/Chicago:20250917T193000
DTSTAMP:20260423T120209
CREATED:20250909T212533Z
LAST-MODIFIED:20250909T212533Z
UID:4273-1758133800-1758137400@thelittlewarriorsproject.com
SUMMARY:The Wait Is Over!!!!! — Basket Fundraiser!
DESCRIPTION:
URL:https://thelittlewarriorsproject.com/events/the-wait-is-over-basket-fundraiser/
CATEGORIES:All Events,Raffle Event
ATTACH;FMTTYPE=image/png:https://thelittlewarriorsproject.com/wp-content/uploads/Screenshot-2025-09-09-at-4.17.31-PM-1.png
ORGANIZER;CN="Francennett Herrera":MAILTO:thelittlewarriorsproject@gmail.com
END:VEVENT
BEGIN:VEVENT
DTSTART;VALUE=DATE:20241117
DTEND;VALUE=DATE:20241118
DTSTAMP:20260423T120209
CREATED:20241117T013840Z
LAST-MODIFIED:20250715T200944Z
UID:3365-1731801600-1731887999@thelittlewarriorsproject.com
SUMMARY:Wear Your Purple! World Prematurity Day!
DESCRIPTION:
URL:https://thelittlewarriorsproject.com/events/wear-your-purple/
CATEGORIES:All Events
ATTACH;FMTTYPE=image/png:https://thelittlewarriorsproject.com/wp-content/uploads/2024/11/Screenshot-2024-11-16-at-2.42.41 PM.png
END:VEVENT
BEGIN:VEVENT
DTSTART;TZID=UTC:20241012T080000
DTEND;TZID=UTC:20241012T130000
DTSTAMP:20260423T120209
CREATED:20241002T090934Z
LAST-MODIFIED:20250715T200641Z
UID:3302-1728720000-1728738000@thelittlewarriorsproject.com
SUMMARY:HOMEWOOD FARMERS MARKET
DESCRIPTION:
URL:https://thelittlewarriorsproject.com/events/homewood-farmers-market-2/
LOCATION:Martin Square\, 18020 Martin Avenue\, Homewood\, IL\, 60430\, United States
CATEGORIES:All Events
ATTACH;FMTTYPE=image/png:https://thelittlewarriorsproject.com/wp-content/uploads/Homewood.png
ORGANIZER;CN="Francennett Herrera":MAILTO:thelittlewarriorsproject@gmail.com
END:VEVENT
BEGIN:VEVENT
DTSTART;TZID=UTC:20241005T080000
DTEND;TZID=UTC:20241005T130000
DTSTAMP:20260423T120209
CREATED:20241002T075216Z
LAST-MODIFIED:20250715T200723Z
UID:3275-1728115200-1728133200@thelittlewarriorsproject.com
SUMMARY:HOMEWOOD FARMERS MARKET
DESCRIPTION:
URL:https://thelittlewarriorsproject.com/events/homewood-farmers-market/
LOCATION:Martin Square\, 18020 Martin Avenue\, Homewood\, IL\, 60430\, United States
CATEGORIES:All Events
ATTACH;FMTTYPE=image/png:https://thelittlewarriorsproject.com/wp-content/uploads/Homewood.png
ORGANIZER;CN="Francennett Herrera":MAILTO:thelittlewarriorsproject@gmail.com
END:VEVENT
BEGIN:VEVENT
DTSTART;TZID=UTC:20240901T080000
DTEND;TZID=UTC:20240901T130000
DTSTAMP:20260423T120209
CREATED:20240830T003121Z
LAST-MODIFIED:20250715T200807Z
UID:3050-1725177600-1725195600@thelittlewarriorsproject.com
SUMMARY:ST. JOHN'S FARMERS MARKET
DESCRIPTION:Join us this Sunday\, Sept. 1st from 8am – 1pm at the St. John’s Farmers Market!!
URL:https://thelittlewarriorsproject.com/events/st-johns-farmers-market-sept-1/
LOCATION:Community Hospital Outpatient Center\, 9660 Wicker Avenue\, St. John\, IN\, 46373\, United States
CATEGORIES:All Events
ATTACH;FMTTYPE=image/png:https://thelittlewarriorsproject.com/wp-content/uploads/St.-Johns.png
ORGANIZER;CN="Francennett Herrera":MAILTO:thelittlewarriorsproject@gmail.com
END:VEVENT
BEGIN:VEVENT
DTSTART;TZID=UTC:20240825T080000
DTEND;TZID=UTC:20240825T130000
DTSTAMP:20260423T120209
CREATED:20240821T024324Z
LAST-MODIFIED:20250715T200830Z
UID:3027-1724572800-1724590800@thelittlewarriorsproject.com
SUMMARY:ST. JOHN'S FARMERS MARKET
DESCRIPTION:We will be at the Community Hospital Outpatient Center Farmers Market in St. John\, this Sunday\, Aug 25th!!!! From 8AM to 1PM. \nBe the first one to rock our merch at our first popup!!! \nPictures coming soon!!!!!
URL:https://thelittlewarriorsproject.com/events/st-johns-farmers-market/
LOCATION:Community Hospital Outpatient Center\, 9660 Wicker Avenue\, St. John\, IN\, 46373\, United States
CATEGORIES:All Events
ATTACH;FMTTYPE=image/png:https://thelittlewarriorsproject.com/wp-content/uploads/2024/08/Screenshot-2024-08-20-at-4.40.35 PM.png
ORGANIZER;CN="Francennett Herrera":MAILTO:thelittlewarriorsproject@gmail.com
END:VEVENT
BEGIN:VEVENT
DTSTART;TZID=UTC:20240505T110000
DTEND;TZID=UTC:20240505T200000
DTSTAMP:20260423T120209
CREATED:20240429T000539Z
LAST-MODIFIED:20250715T200903Z
UID:2760-1714906800-1714939200@thelittlewarriorsproject.com
SUMMARY:Huge Raffle!
DESCRIPTION:Join The Little Warriors Project in the first fundraiser of the year! \n\nRaffle Tickets are only $10!\nEntry tickets are sold separately.\n\n \n 
URL:https://thelittlewarriorsproject.com/events/huge-raffle/
LOCATION:Rancho El Consuelo\, 744 W Church Rd.\, Beecher\, IL\, 60401\, United States
CATEGORIES:All Events
ATTACH;FMTTYPE=image/png:https://thelittlewarriorsproject.com/wp-content/uploads/Huge-Raffle.png
ORGANIZER;CN="Francennett Herrera":MAILTO:thelittlewarriorsproject@gmail.com
END:VEVENT
END:VCALENDAR